BEGIN:VCALENDAR
VERSION:2.0
PRODID:-//https://cascobaysports.com///NONSGML kigkonsult.se iCalcreator 2.10.15//
METHOD:PUBLISH
BEGIN:VEVENT
UID:20260419T145436UTC-8696rBeloc@https://cascobaysports.com/
DTSTAMP:20260419T145436Z
DESCRIPTION:Registration Details:\n\n\n\nStatus Update:&nbsp\;\nOpen\n\n\n
 \nLeague Level:\n\nAll ability levels\, Divisional playoff breakdown to be
  determined\n\n\nCapacity:&nbsp\;\n12 Teams\n\n\n\nTotal Team Fee:\n\n$135
 0&nbsp\;($500 deposit required)\n\n\nTeam Balance: &nbsp\; &nbsp\; &nbsp\;
  &nbsp\;\nBefore league start date or late fee applied\n\n\nFree Agent Fee
 :\nSee Sunday League options&nbsp\;\n\n\nEQUIPMENT PICK-UP\nTBA\n\n\nGame 
 Times:\n6:30\, 7:45\, or 9:00 PM - or variation of based on HS usage\n\n\n
 Fields/Areas Utilized:&nbsp\; &nbsp\;&nbsp\;\nPayson Park\, Kiley\, or Riv
 erton\n\n\n\n&nbsp\;\nWhat's Included:\n\n8 Game Season&nbsp\;plus playoff
  tournament (9-10 games&nbsp\;guaranteed)\nPlay on fields in Greater Portl
 and area\nTop rate league management &amp\; communication\nPrompt schedule
  &amp\; standings updates\nGame balls included\nTeam plays on SAME night e
 ach week\nAssigned quality umpires&nbsp\;\n\nFor online registration: Clic
 k the Register Now button at the top of the page\,&nbsp\;3% processing fee
  applies.\nRecruiting a local business for team fee sponsorship? &nbsp\;We
  readily provide W9's.\n\nBasic Rules:\n\n10 players on the field\nBatting
  order alternates between genders (For Coed)\n75 minute games/7 Innings/st
 art with 1-1 count\nStandard 12' coed softball for coed league\nPlayers mu
 st be 21+\nView the League Rules below (under FILES)\n\nShirt Options:&nbs
 p\;Casco Bay Sports shirts available\, please email&nbsp\;dan@cascobayspor
 ts.com\n&nbsp\;\n&nbsp\; https://cascobaysports.com/programs/event/106-thu
 rsday-coed-outdoor-softball
DTSTART;VALUE=DATE:20260507
LOCATION:Payson Park & other local fields (Edward Payson Park\, Portland\, 
 ME 04103\, USA)
SUMMARY:Thursday Coed Outdoor Softball
URL:https://cascobaysports.com/programs/event/106-thursday-coed-outdoor-sof
 tball
END:VEVENT
BEGIN:VEVENT
UID:20260419T145436UTC-8700Hs4FtL@https://cascobaysports.com/
DTSTAMP:20260419T145436Z
DESCRIPTION:Registration Details:\n\n\n\nStatus Update:\nOpen\n\n\nLeague L
 evels:\nAll ability levels\n\n\nNote: Competitive &amp\; casual breakdown 
 available based on registrations&nbsp\;\n\n\n&nbsp\;\n&nbsp\;\n\n\nTotal T
 eam Fee: &nbsp\; &nbsp\;&nbsp\;\n$850&nbsp\;($250 deposit required)\n\n\nT
 eam Balance:\nDue first day of play or $50 late fee applied\n\n\nFree Agen
 t Fee:\n$95&nbsp\;- Team placement available\n\n\n&nbsp\;\n&nbsp\;\n\n\nGa
 me Times:\n6:00\, 6:45\, or 7:30 PM\n\n\n\nNote:&nbsp\; Games are played @
  Payson B &amp\; Dyer Flats Field in Payson Park\nWhat's Included:\n\n10 t
 eam shirts with color of choice\n6 week season&nbsp\;plus playoff tourname
 nt (7 Games guaranteed)\nOnsite league manager\nQuality communication &amp
 \; efficient scheduling\nUpdated standings &amp\; full length playoff tour
 nament\nFun and Exercise!\n\nFor online registration\, click the Register 
 Now button at the top of the page\n\nBasic Rules:\n\n10 vs 10 (6 male 4 fe
 male) - Rosters can have more!\nGame time: 9 innings or 1 hour\nRoll-down 
 &amp\; Kickaway league\nParticipants must be 21+\n\n\n&nbsp\; https://casc
 obaysports.com/programs/event/151-thursday-coed-outdoor-kickball
DTSTART;VALUE=DATE:20260507
LOCATION:Payson Park & other local fields (Edward Payson Park\, Portland\, 
 ME 04103\, USA)
SUMMARY:Thursday Coed Outdoor Kickball
URL:https://cascobaysports.com/programs/event/151-thursday-coed-outdoor-kic
 kball
END:VEVENT
END:VCALENDAR
