BEGIN:VCALENDAR
VERSION:2.0
PRODID:-//https://cascobaysports.com/staging///NONSGML kigkonsult.se iCalcreator 2.10.15//
METHOD:PUBLISH
BEGIN:VEVENT
UID:20260419T144256UTC-1880zVTcau@https://cascobaysports.com/staging/
DTSTAMP:20260419T144256Z
DESCRIPTION:The Important Stuff:\n\n\n\nRegistration:&nbsp\;\nOpen\n\n\nLea
 gue Level:\nAll abilities\n\n\n&nbsp\;\n&nbsp\;\n\n\nFull Team Fee:\n$700&
 nbsp\;($200 deposit required)\n\n\nTeam Balance: &nbsp\; &nbsp\;&nbsp\;\nB
 efore or on the first night of play\n\n\nFree Agent Fee:\n$100&nbsp\;- Tea
 m placement available\n\n\n&nbsp\;\n&nbsp\;\n\n\nGame Times:\n7:00\, 7:45 
 or 8:30 PM\n\n\n\nWhat's Included:\n\n6 Weeks of play including playoff to
 urnament\nQuality league management &amp\; communication\nUpdated schedule
 s &amp\; standings\nReferee &amp\; score keeper\nAmazing exercise &amp\; f
 un atmosphere\n\nFor online registration\, click the Register Now button a
 t the top of the page\,&nbsp\;3% service fee applies.\n&nbsp\;\nBasic Rule
 s:\n\n8 vs 8 (with at least 2 women) - 10 player rosters encouraged\nFour 
 - 8 minute quarters running time\nMens goals 1 point\, womens 2 points\nPl
 ayers must be 21+\nNo splashing or grabbing of ball in possession\nView th
 e League Rules below (under FILES)\n\n\n&nbsp\;\n&nbsp\; https://cascobays
 ports.com/staging/programs/event/40-wednesday-coed-inner-tube-water-polo
DTSTART;VALUE=DATE:20240221
LOCATION:Cape Elizabeth High School  (Cape Elizabeth High School\, 345 Ocea
 n House Road\, Cape Elizabeth\, ME 04107\, USA)
SUMMARY:Wednesday Coed Inner Tube Water Polo
URL:https://cascobaysports.com/staging/programs/event/40-wednesday-coed-inn
 er-tube-water-polo
END:VEVENT
END:VCALENDAR
