BEGIN:VCALENDAR
VERSION:2.0
PRODID:-//https://cascobaysports.com/staging///NONSGML kigkonsult.se iCalcreator 2.10.15//
METHOD:PUBLISH
BEGIN:VEVENT
UID:20260419T144000UTC-6915C6h9Xa@https://cascobaysports.com/staging/
DTSTAMP:20260419T144000Z
DESCRIPTION:Registration Details:\n\n\n\nStatus Update:&nbsp\;\nPay deposit
  to register and get on list for 1/25\n\n\n&nbsp\;\n&nbsp\;\n\n\nLeague Le
 vel:\nAll Abilities w/2 playoff divisions if necessary\n\n\nFull Team Fee:
 \n$800&nbsp\;($250 deposit required)&nbsp\;\n\n\nTeam Balance:&nbsp\; &nbs
 p\;\nDue first day of play or&nbsp\;$50 Late Fee&nbsp\;applied\n\n\nFree A
 gent Fee:\n$125\n\n\n&nbsp\;\n&nbsp\;\n\n\nGame Times:\n6:30\, 7:25\, 8:20
 \, or 9:15 PM (with variations based on youth sports)\n\n\n\n\nWhat's Incl
 uded:\n\n6 week season plus playoff tournament (7-8 Games guaranteed)\n8 t
 eam shirts with color of choice\nQuality league management &amp\; communic
 ation\nCoed friendly rules that keep all players involved\nExperienced ref
 erees &amp\; score keepers\n\nFor online registration\, click the Register
  Now button at the top of the page\,&nbsp\;3% service fee applies.\n&nbsp\
 ;\nBasic Rules:\n\n5 vs 5 (with at least 1 women on court)\nTwo- 20 minute
  halves\nMen's baskets: 1's &amp\; 2's\, Women's baskets:&nbsp\; 2's &amp\
 ; 3's\nPlayers substitute on the fly\nClock stops in last two minutes\nPla
 yers must be 21+\nView the League Rules below (under FILES)\n\n&nbsp\;\n&n
 bsp\;\n&nbsp\;\n&nbsp\;\n&nbsp\; https://cascobaysports.com/staging/progra
 ms/event/49-thursday-coed-basketball
DTSTART;VALUE=DATE:20240125
LOCATION:The East End Community Center (195 North Street\, Portland\, ME 04
 101\, USA)
SUMMARY:Thursday Coed Basketball
URL:https://cascobaysports.com/staging/programs/event/49-thursday-coed-bask
 etball
END:VEVENT
END:VCALENDAR
