BEGIN:VCALENDAR
VERSION:2.0
PRODID:-//https://cascobaysports.com/staging///NONSGML kigkonsult.se iCalcreator 2.10.15//
METHOD:PUBLISH
BEGIN:VEVENT
UID:20260419T130846UTC-1498r6M5Xm@https://cascobaysports.com/staging/
DTSTAMP:20260419T130846Z
DESCRIPTION:Registration Details:\n\n\n\nStatus Update:\n\nPlace fully refu
 ndable team deposit to be place on waitlist\n\n\n\n&nbsp\;\n\n\nLeague Lev
 el:\nAll Ability levels\, division breakdown on playoff night\n\n\nFull Te
 am Fee:\n$700 -&nbsp\;($200 deposit required)\n\n\nTeam Balance:&nbsp\;\nB
 efore or on the first night&nbsp\; &nbsp\; &nbsp\; &nbsp\; &nbsp\; &nbsp\;
  &nbsp\; &nbsp\; &nbsp\; &nbsp\;\n\n\nFree Agent Fee:\nComplete Interested
  Player Form\n\n\n&nbsp\;\n&nbsp\;\n\n\nGame Times:\n5:30 PM &amp\; 8:00 P
 M rotating through season\n\n\n\n&nbsp\;\nWhat's Included:\n\n6 week regul
 ar season plus playoff tournament (7 weeks guaranteed)!\nTop notch league 
 communication &amp\; scheduling\nUpdated standings with comprehensive bowl
 ing statistics\n2 Hours of Bowling per Night\nQuality bar &amp\; restauran
 t onsite with league specials&nbsp\;\nShoe rentals are not included ($3/ni
 ght)\n\nFor online registration\, click the 'Register Now' button at the t
 op of the page\,&nbsp\;3% service fee applies.\n&nbsp\; &nbsp\;\nBasic Rul
 es:\n\n4-8 person teams\, with 4 bowlers per game (at least 1 female/game)
 .&nbsp\; You must be on the roster to bowl.\n3 game strings each night\, b
 owlers can sub in from game to game\n1 point is awarded for each of 4 head
  to head matchup (highest score&nbsp\;vs highest score\, 2nd vs 2nd\, etc)
  and 1 point for high team score each&nbsp\;game.&nbsp\; 5 points are awar
 ded for each game for a total of 15 match&nbsp\;points.\nThere will be no 
 handicaps.\nPlayers must be 21+\n\n&nbsp\;\n&nbsp\;\n&nbsp\;\n&nbsp\; http
 s://cascobaysports.com/staging/programs/event/50-wednesday-coed-bowling-wa
 itlist-w-refundable-deposit
DTSTART;VALUE=DATE:20240207
LOCATION:Bayside Bowl  (58 Alder Street\, Portland\, ME 04101\, USA)
SUMMARY:Wednesday Coed Bowling (Waitlist w/refundable deposit)
URL:https://cascobaysports.com/staging/programs/event/50-wednesday-coed-bow
 ling-waitlist-w-refundable-deposit
END:VEVENT
END:VCALENDAR
