BEGIN:VCALENDAR
VERSION:2.0
PRODID:-//https://cascobaysports.com///NONSGML kigkonsult.se iCalcreator 2.10.15//
METHOD:PUBLISH
BEGIN:VEVENT
UID:20260419T151739UTC-6566BlCkmX@https://cascobaysports.com/
DTSTAMP:20260419T151739Z
DESCRIPTION:Registration Details:\n\n\n\nStatus Update:&nbsp\;\nOpen\n\n\n
 \nLeague Level:\n\nAll ability levels - Division playoff breakdown determi
 ned\n\n\nCapacity:&nbsp\;\n12 Teams\n\n\n\nTotal Team Fee:&nbsp\;\n\n$1350
 &nbsp\;($500 deposit required)\n\n\nTeam Balance:&nbsp\; &nbsp\; &nbsp\;&n
 bsp\;\nBefore league start date or&nbsp\;late fee applied&nbsp\;&nbsp\;\n
 \n\nFree Agents:\nSee Sunday League options\n\n\nEQUIPMENT PICK-UP&nbsp\; 
 &nbsp\;&nbsp\;\nTBA\n\n\nGame Times:\n\n6:30\, 7:45\, 9:00 with some devia
 tion for HS schedules&nbsp\; &nbsp\; &nbsp\; &nbsp\; &nbsp\; &nbsp\;&nbsp\
 ;\n\n\n\nFields/Areas Utilized:\nPayson Park\, Kiley\, or Riverton\n\n\n\n
 \nWhat's Included:\n\n8 game Season&nbsp\;plus playoff tournament (9-10 ga
 mes guaranteed)\nPlay at fields in Greater Portland area\nTop rate league 
 management &amp\; communication\nPrompt schedule &amp\; standings updates
 \nGame balls included\nTeam plays on SAME night each week\nAssigned qualit
 y umpires&nbsp\;\n\nFor online registration\, click the Register Now butto
 n at the top of the page\,&nbsp\;3% service fee applies.\nRecruiting a loc
 al business for team fee sponsorship? &nbsp\;We readily provide W9's.\n\nB
 asic Rules:\n\n10 players on the field\nBatting order alternates between g
 enders (For Coed)\n75 minute games/7 Innings/start with 1-1 count\nStandar
 d 12' coed softball for coed league\nPlayers must be 21+\nView the League 
 Rules below (under FILES)\n\nShirt Options:&nbsp\;Casco Bay Sports shirts 
 available\, please email dan@cascobaysports.com\n\n&nbsp\; https://cascoba
 ysports.com/programs/event/44-monday-coed-outdoor-softball
DTSTART;VALUE=DATE:20260504
LOCATION:Payson Park & other local fields (Edward Payson Park\, Portland\, 
 ME 04103\, USA)
SUMMARY:Monday Coed Outdoor Softball
URL:https://cascobaysports.com/programs/event/44-monday-coed-outdoor-softba
 ll
END:VEVENT
BEGIN:VEVENT
UID:20260419T151739UTC-65705oui4L@https://cascobaysports.com/
DTSTAMP:20260419T151739Z
DESCRIPTION:Registration Details:\n\n\n\nStatus Update: \nOpen\n\n\nLeague 
 Level:\nAll abilities w/playoff breakdown if necessary\n\n\n&nbsp\;\n\n\nF
 ull Team Fee:\n$925&nbsp\;($250 deposit required)&nbsp\;\n\n\nTeam Balance
 :&nbsp\; &nbsp\;\nDue first day of play or&nbsp\;$50 Late Fee&nbsp\;applie
 d\n\n\nFree Agent Fee:\n$125&nbsp\;Team placement based on registrations\n
 \n\n&nbsp\;\n&nbsp\;\n\n\nGame Times:\n7:00\, 8:00\, 9:00 PM or variation 
 of\n\n\n\nNote:\nWhat's Included:\n\n6 week season plus playoff tournament
 \n7-8 games guaranteed\n8 team shirts with color of choice\nQuality league
  management &amp\; communication\nCoed friendly rules that keep all player
 s involved\nExperienced referees &amp\; score keepers\n\nFor online regist
 ration\, click the Register Now button at the top of the page\n&nbsp\;\nBa
 sic Rules:\n\n5 vs 5 (with at least 1 women on court)\nTwo- 20 minute halv
 es\nMen's baskets:&nbsp\; 1's &amp\; 2's\, Women's baskets:&nbsp\; 2's &am
 p\; 3's\nPlayers substitute on the fly\nClock stops in last two minutes\nP
 layers must be 21+\nView the League Rules below (under FILES)\n\n\n&nbsp\;
 \n&nbsp\;\n&nbsp\; https://cascobaysports.com/programs/event/139-monday-co
 ed-basketball
DTSTART;VALUE=DATE:20260504
LOCATION:The East End Community Center (195 North Street\, Portland\, ME 04
 101\, USA)
SUMMARY:Monday Coed Basketball
URL:https://cascobaysports.com/programs/event/139-monday-coed-basketball
END:VEVENT
BEGIN:VEVENT
UID:20260419T151739UTC-6572ViPmj2@https://cascobaysports.com/
DTSTAMP:20260419T151739Z
DESCRIPTION:Registration Details:\n\n\n\nStatus Update:\nOpen\n\n\nLeague C
 apacity:&nbsp\;\n16 Teams\n\n\nLevels of Play:&nbsp\;&nbsp\;\nA\,B\, or C 
 divisions based on experience\n\n\nNew Team Fee:\n$350\n\n\nFree Agent Reg
 istration:&nbsp\;&nbsp\;\n$175 - We can pair you up!\n\n\n&nbsp\;\n&nbsp\;
 \n\n\nMatch Times:\n&nbsp\;6:00 or 7:30 PM with some deviation\n\n\n\nNote
 :&nbsp\; 6 games per night @ The Wicked Pickle!\nWhat's Included:\n\n6-7 w
 eek season including playoff tournament!\n6 games/night (90 minute round r
 obins)\nBar &amp\; Grill onsite for post game!\nUpdated stats and standing
 s\nOutdoor balls &amp\; net setups (players bring rackets)\n\n&nbsp\;\nBas
 ic Rules:\n\n2-4 person teams (4 players can be on roster)\nPlayers 3 and 
 4 can rotate in between games\nMen's\, Women's\, &amp\; Coed Teams = one d
 ivision\nGames to 11 points straight in regular season- win by 2 in playof
 fs\nServe to score\nHonesty policy on lines\nPlayers must be 21+\n\n https
 ://cascobaysports.com/programs/event/198-monday-pickleball-the-wicked-pick
 le
DTSTART;VALUE=DATE:20260504
LOCATION:The Wicked Pickle (2401 W Broadway\, South Portland\, ME 04106)
SUMMARY:Monday Pickleball @ The Wicked Pickle
URL:https://cascobaysports.com/programs/event/198-monday-pickleball-the-wic
 ked-pickle
END:VEVENT
END:VCALENDAR
