BEGIN:VCALENDAR
VERSION:2.0
PRODID:-//https://cascobaysports.com///NONSGML kigkonsult.se iCalcreator 2.10.15//
METHOD:PUBLISH
BEGIN:VEVENT
UID:20260419T144434UTC-6766RaX7f3@https://cascobaysports.com/
DTSTAMP:20260419T144434Z
DESCRIPTION:The Important Stuff:\n\n\n\nRegistration:&nbsp\;\nOpen\n\n\nLea
 gue Level:\nAll abilities\n\n\n&nbsp\;\n&nbsp\;\n\n\nFull Team Fee:\n$750&
 nbsp\;($200 deposit required)\n\n\nTeam Balance: &nbsp\; &nbsp\;&nbsp\;\nB
 efore or on the first night of play\n\n\nFree Agent Fee:\n$95&nbsp\;- Team
  placement available\n\n\n&nbsp\;\n&nbsp\;\n\n\nGame Times:\n7:00\, 7:45 o
 r 8:30 PM\n\n\n\nWhat's Included:\n\n6 Weeks of play including playoff tou
 rnament\nQuality league management &amp\; communication\nUpdated schedules
  &amp\; standings\nReferee &amp\; score keeper\nAmazing exercise &amp\; fu
 n atmosphere\n\nFor online registration\, click the Register Now button at
  the top of the page\,&nbsp\;3% service fee applies.\n&nbsp\;\nBasic Rules
 :\n\n8 vs 8 (with at least 2 women) - 10 player rosters encouraged\nFour -
  8 minute quarters running time\nMens goals 1 point\, womens 2 points\nPla
 yers must be 21+\nNo splashing or grabbing of ball in possession\nView the
  League Rules below (under FILES)\n\n\n&nbsp\; https://cascobaysports.com/
 programs/event/40-wednesday-coed-inner-tube-water-polo
DTSTART;VALUE=DATE:20260422
LOCATION:Cape Elizabeth High School  (345 Ocean House Road\, Cape Elizabeth
 \, ME 04107\, USA)
SUMMARY:Wednesday Coed Inner Tube Water Polo
URL:https://cascobaysports.com/programs/event/40-wednesday-coed-inner-tube-
 water-polo
END:VEVENT
BEGIN:VEVENT
UID:20260419T144434UTC-6770czg7EV@https://cascobaysports.com/
DTSTAMP:20260419T144434Z
DESCRIPTION:Registration Details:\n\n\n\nStatus Update:&nbsp\;&nbsp\;\nOpen
 \n\n\nLeague Level:\nA\, B\, or C Divisions based on registrations\n\n\n&n
 bsp\;\n\n\nNew Team Fee:&nbsp\;&nbsp\;\n$1100&nbsp\;- ($300 deposit requir
 ed)\n\n\nTeam Balance:\nDue first day of play or&nbsp\;$50 Late Fee&nbsp\;
 applied\n\n\nFree Agents:&nbsp\;\nComplete Interested Player&nbsp\;Email\n
 \n\n&nbsp\;\n&nbsp\;\n\n\nGame Times:\n8:15\, 9:15\, or 10:15 PM\n\n\nFiel
 ds Used:\nFitzpatrick Portland Sports Complex\n\n\n\n\nNote: This session 
 will play primarily OUTDOORS @ Fitzpatrick Stadium with overflow indoors @
  PSC\n\nWhat's Included:\n\n6 game regular season plus playoff tournament 
 (7 Weeks Guaranteed)\n8-10 team shirts\, with color of choice\nCertified R
 eferees &amp\; onsite league coordinator\nTop rate league communication &a
 mp\; scheduling\nFun and great exercise!\n\nFor online registration\, clic
 k the Register Now button at the top of the page\n&nbsp\;\nBasic Rules:\n
 \n6 vs 6 (with at least 2 women)\n2- 25 minute halves running time\, stop 
 time when applicable\n40 x 60 yard field\, &nbsp\;7' x 12' goals\nPlayers 
 must be 21+\nSportsmanship policy strictly enforced\nNo metal cleats and s
 hin guards recommended\nView the League Rules below (under FILES)\n\n\n&nb
 sp\; https://cascobaysports.com/programs/event/183-wednesday-6-v-6-coed-so
 ccer
DTSTART;VALUE=DATE:20260422
LOCATION:Fitzpatrick Stadium  (Fitzpatrick Stadium\, Deering Avenue\, Portl
 and\, ME 04102\, USA)
SUMMARY:Wednesday 6 v 6 Coed Soccer
URL:https://cascobaysports.com/programs/event/183-wednesday-6-v-6-coed-socc
 er
END:VEVENT
BEGIN:VEVENT
UID:20260419T144434UTC-6773VWUkG3@https://cascobaysports.com/
DTSTAMP:20260419T144434Z
DESCRIPTION:Registration Details:\n\n\n\nStatus Update:&nbsp\;&nbsp\;\nOpen
 \n\n\nLeague Level:\nA\, B\, or C Division breakdown based on registration
 s\n\n\n&nbsp\;\n&nbsp\;\n\n\nTeam Fee:\n$1100&nbsp\;($300 deposit required
 )\n\n\nTeam Balance:&nbsp\; &nbsp\; &nbsp\;\nDue first day of play or&nbsp
 \;$50 Late Fee&nbsp\;applied\n\n\nFree Agent Fee:\nComplete Interested Pla
 yer Email\n\n\n&nbsp\;\n&nbsp\;\n\n\nGame Times:\n8:00\, 9:00\, or 10:00 P
 M\n\n\nFields Used:\nPortland Sports Complex &amp\; Fitzpatrick Stadium\n
 \n\n\nNote:&nbsp\; This session will play Outdoors at Fitzpatrick Stadium 
 w/overflow Indoors @ PSC\nWhat's Included:\n\n6 game regular season plus p
 layoff tournament (7 Weeks of Play Total)\n8-10 team shirts\, with color o
 f choice\nCertified referees &amp\; onsite league coordinator\nTop rate le
 ague communication &amp\; scheduling\nFun and great exercise!\n\nFor onlin
 e registration\, click the Register Now button at the top of the page\n&nb
 sp\;\nBasic Rules:\n\n6 vs 6 (with at least 2 women)\n2- 25 minute halves 
 running time\, stop time when applicable\n40 x 60 yard field\, &nbsp\;7' x
  12' goals\nPlayers must be 21+\nSportsmanship policy strictly enforced\nN
 o metal cleats and shin guards recommended\nView the League Rules below (u
 nder FILES)\n\n\n&nbsp\;\n&nbsp\; https://cascobaysports.com/programs/even
 t/184-monday-6-v-6-coed-outdoor-soccer-space-for-2-teams
DTSTART;VALUE=DATE:20260420
LOCATION:Fitzpatrick Stadium  (Fitzpatrick Stadium\, Deering Avenue\, Portl
 and\, ME 04102\, USA)
SUMMARY:Monday 6 v 6 Coed Outdoor Soccer (Space for 2 Teams)
URL:https://cascobaysports.com/programs/event/184-monday-6-v-6-coed-outdoor
 -soccer-space-for-2-teams
END:VEVENT
BEGIN:VEVENT
UID:20260419T144434UTC-6776f5v4Vs@https://cascobaysports.com/
DTSTAMP:20260419T144434Z
DESCRIPTION:\nTime:&nbsp\;7:00 PM\, 8:00 PM\, or 9:00 PM (See Open Sports L
 ink)\nLocation:&nbsp\;Portland Sports Complex (Half Dome or Full Dome)\nJo
 in our OpenSports group to view upcoming pickup sessions and to register!
 \n\nCasco Bay Sports is continuing a program utilizing turf fields (indoor
 s &amp\; outdoors) for pickup soccer!&nbsp\;&nbsp\;We have organizers on h
 and to keep things fun and friendly for both competitive and novice player
 s.\nAll we ask from you is a positive attitude and small fee per session (
 cards only\, no cash accepted) to cover the costs of fields\, lights\, org
 anizers\, and laundry!\nOur pickup soccer sessions often involve up to thr
 ee simultaneous games up to 6v6\, so it's important to&nbsp\;RSVP &amp\; R
 egister on our OpenSports group.\nBrowse all of our upcoming soccer events
  on our OpenSports group!&nbsp\; Have fun!\nOpenSports \n\n\n&nbsp\; https
 ://cascobaysports.com/programs/event/188-tuesday-pickup-soccer-all-skill-l
 evels
DTSTART;VALUE=DATE:20260421
LOCATION:The Dome @ Portland Sports Complex (512 Warren Avenue\, Portland\,
  ME 04103\, USA)
SUMMARY:Tuesday Pickup Soccer - All Skill Levels
URL:https://cascobaysports.com/programs/event/188-tuesday-pickup-soccer-all
 -skill-levels
END:VEVENT
END:VCALENDAR
